BEGIN:VCALENDAR
VERSION:2.0
PRODID:-//Arrowhead Golf Club - ECPv6.15.17//NONSGML v1.0//EN
CALSCALE:GREGORIAN
METHOD:PUBLISH
X-WR-CALNAME:Arrowhead Golf Club
X-ORIGINAL-URL:https://arrowheadgolfclub.org
X-WR-CALDESC:Events for Arrowhead Golf Club
REFRESH-INTERVAL;VALUE=DURATION:PT1H
X-Robots-Tag:noindex
X-PUBLISHED-TTL:PT1H
BEGIN:VTIMEZONE
TZID:America/Chicago
BEGIN:DAYLIGHT
TZOFFSETFROM:-0600
TZOFFSETTO:-0500
TZNAME:CDT
DTSTART:20250309T080000
END:DAYLIGHT
BEGIN:STANDARD
TZOFFSETFROM:-0500
TZOFFSETTO:-0600
TZNAME:CST
DTSTART:20251102T070000
END:STANDARD
BEGIN:DAYLIGHT
TZOFFSETFROM:-0600
TZOFFSETTO:-0500
TZNAME:CDT
DTSTART:20260308T080000
END:DAYLIGHT
BEGIN:STANDARD
TZOFFSETFROM:-0500
TZOFFSETTO:-0600
TZNAME:CST
DTSTART:20261101T070000
END:STANDARD
BEGIN:DAYLIGHT
TZOFFSETFROM:-0600
TZOFFSETTO:-0500
TZNAME:CDT
DTSTART:20270314T080000
END:DAYLIGHT
BEGIN:STANDARD
TZOFFSETFROM:-0500
TZOFFSETTO:-0600
TZNAME:CST
DTSTART:20271107T070000
END:STANDARD
END:VTIMEZONE
BEGIN:VEVENT
DTSTART;TZID=America/Chicago:20260417T100000
DTEND;TZID=America/Chicago:20260417T130000
DTSTAMP:20260421T172250
CREATED:20260302T192612Z
LAST-MODIFIED:20260331T203603Z
UID:13995-1776420000-1776430800@arrowheadgolfclub.org
SUMMARY:4/17: Mimosas and Mahjong - SOLD OUT
DESCRIPTION:Mimosas and Mahjong – SOLD OUTFriday\, April 17 | 10A-1P | Clocktower Room | 21+Brought to you by the Mary Lubko Center \nSip\, snack\, and shuffle tiles at Mimosas and Mahjong – a relaxed\, social introduction to this classic game. Enjoy unlimited mimosas\, delicious mini croissant sandwiches\, scones\, yogurt parfaits\, and fruit while learning the basics. Lisa from Blue Tiger Mahj Club will be on hand to teach all the beginner basics: from the tiles\, the player card\, and how to deal\, to finding your best hand and much more. Bring your friends\, settle in\, and make a morning of good views\, great food\, and even better company! \nCheck-in starts at 9:45A. \nTickets\n$129* *plus Eventbrite service fee
URL:https://arrowheadgolfclub.org/events/4-17-mimosas-and-mahjong/
LOCATION:Arrowhead Golf Club\, 26W151 Butterfield Rd\, Wheaton\, IL\, 60189
CATEGORIES:21 & over,Arrowhead Golf Club
ATTACH;FMTTYPE=image/png:https://arrowheadgolfclub.org/wp-content/uploads/2026/03/417-Mimosas-and-Mahjong.png
END:VEVENT
BEGIN:VEVENT
DTSTART;VALUE=DATE:20260409
DTEND;VALUE=DATE:20260413
DTSTAMP:20260421T172250
CREATED:20260325T164936Z
LAST-MODIFIED:20260325T165603Z
UID:14022-1775692800-1776038399@arrowheadgolfclub.org
SUMMARY:4/9-4/12: Masters Tournament Menu
DESCRIPTION:Masters Tournament MenuApril 9-12 | Arrowhead Restaurant & BarIndulge in a Masters Tournament-inspired menu and enjoy exclusive drink specials designed to make your viewing experience unforgettable.Shaved Turkey & Pimento Cheese\nToasted honey wheat bread\, hot cherry pepper “pimento” cheese\, fresh cucumber\, shaved granny smith apple\, mixed greens\n$15.95 \nBBQ Pork Schnitzel Sandwich\nMilk-brined\, cabbage slaw\, hot pickles\, toasted brioche bun\n$17.95 \nPeach Ice Cream Sandwich\nPeach custard\, baked soft sugar cookies\n$8.95 \nDRINK SPECIALS\nBunker Bourbon\nbourbon\, bitter\, simple syrup\, splash of grenadine\n$10 \nAzalea\nhouse vodka\, lemon juice\, pineapple juice\, grenadine\n$10 \nSunday Red\njim beam pineapple\, cranberry juice\, pineapple juice\, starry\n$10 \nThe Masters schedule is available at masters.com\nReservations
URL:https://arrowheadgolfclub.org/events/4-9-4-12-masters-tournament-menu/
LOCATION:Arrowhead Golf Club Restaurant & Bar\, 26W151 Butterfield Rd.\, Wheaton\, IL\, 60189
CATEGORIES:Arrowhead Golf Club,Featured,Special Menu
ATTACH;FMTTYPE=image/jpeg:https://arrowheadgolfclub.org/wp-content/uploads/2025/04/masters-event-header.jpg
END:VEVENT
BEGIN:VEVENT
DTSTART;VALUE=DATE:20260405
DTEND;VALUE=DATE:20260406
DTSTAMP:20260421T172250
CREATED:20260306T171627Z
LAST-MODIFIED:20260306T184042Z
UID:13999-1775347200-1775433599@arrowheadgolfclub.org
SUMMARY:4/5: Easter Restaurant Menu
DESCRIPTION:Easter Restaurant MenuApril 5 | 10A-6P | Arrowhead Golf Club RestaurantSavor every bite of our extraordinary Easter restaurant menu! This holiday feast is too good to miss; make your reservation before they’re gone! \nSTARTERSCalamari\ntempura fried | lemon | jalapeño | fresh herbs\n$13.95 \nWisconsin Cheese Curds\nfresh battered wisconsin cheese curd | sriracha ranch dipping sauce\n$12.95 \nClub House Nachos\nancho chili ground beef | pico de gallo | chihuahua cheese blend | lettuce | jalapeño crema | guacamole | fire roasted salsa\n$14.95 \nGinormous Pretzel\nwarm cheese sauce | honey mustard\n$11.95 \nWings\nseven jumbo buffalo or bbq wings | ranch or blue cheese dipping sauce\n$14.95 \nArtisan Bread Basket\nassortment of fresh pretzel dinner rolls | cinnamon honey butter\n$5.00 \nBREAKFAST (until 2P)Denver Omelet\nbell pepper | onion | ham | cheddar cheese\n$11.95 \nCréme Brûlée French Toast\norange marmalade | maple syrup\n$9.99 \nArrowhead All American\ntwo eggs\, any style | three bacon | two sausage links | breakfast potatoes | wheat or white toast\n$12.95 \nPancakes\nthree buttermilk pancakes | maple syrup\n$9.95 \nSOUP & SALADHarvester Chop Salad\nromaine | chicken | bacon | tomatoes | avocado | red onion | blue cheese | citrus herb vinaigrette\n$16.95 \nCaesar Salad\ngrilled chicken +$5 | grilled salmon +$8\nromaine | parmesan cheese | caesar dressing\n$7.95 \nFall Power Salad\nbaby kale | spinach | ancient grains | roasted yellow beets | goat cheese | pickled red onions | puffed grains | blackberry-champagne vinaigrette\n$15.95 \nAsian Steak Salad\nseared flank steak | mixed greens | napa cabbage | watercress | carrots | sugar snap peas | red bell peppers | green onion | crispy wontons | chinese five spice cashews | ginger soy vinaigrette | sesame\n$15.95 \nTomato Bisque\nCup $3.95 | Bowl $5.95 \nHANDHELDS & ENTRÉESFish and Chips\nthree pale ale battered cod filets | lemon | tartar sauce | fries\n$18.95 \nFried Shrimp Basket\nlightly breaded jumbo shrimp | lemon | french fries | coleslaw | cocktail sauce\n$19.95 \nBBQ Salmon\nsautéed mushroom\, spinach & garlic | crispy onion | bourbon BBQ\n$24.95 \nBuffalo Chicken Quesadilla\ncrispy chicken | buffalo sauce | four cheese blend | sour cream | salsa | guacamole\n$16.95 \nMr. Hogan’s Rueben\ncorned beef | sauerkraut | swiss cheese | thousand island dressing | marble rye | french fries\n$15.95 \nSteak Frittes\ngrilled 12 oz. ribeye | french fries | au poivre sauce | chives\n$38.95 \nArrowhead Classic Burger\n7 oz. patty | lettuce | tomato | onion | toasted brioche | french fries\n$15.95 \nSmoked Turkey Club Panini\nblack forest ham | turkey | provolone cheese | applewood bacon | pesto mayonnaise | french fries\n$14.95 \nMahi Mahi Tacos\n3 cajun-spiced mahi tacos | napa cabbbage | shaved red onion | warm flour tortilla | chipotle cream | homemade salsa and chips\n$16.95 \nChimichurri Marinated Swordfish\ncoconut rice\, | sweet potato-orange broth | pumpkin seed salsa macha\n$25.95 \nPrime Rib gf\ngreen beans | baked potato | au jus\nprincess cut 10 oz – $29.95\nqueen cut 12 oz – $31.95 \nThis holiday feast is too good to miss\, and spots are disappearing fast. Make your reservation before they’re gone!Reservations
URL:https://arrowheadgolfclub.org/events/4-5-easter-restaurant-menu/
LOCATION:Arrowhead Golf Club\, 26W151 Butterfield Rd\, Wheaton\, IL\, 60189
CATEGORIES:Arrowhead Golf Club,Easter,Featured,Holiday,Special Menu
ATTACH;FMTTYPE=image/jpeg:https://arrowheadgolfclub.org/wp-content/uploads/2026/03/Easter-Restaurant-Menu-4.jpg
END:VEVENT
BEGIN:VEVENT
DTSTART;VALUE=DATE:20260405
DTEND;VALUE=DATE:20260406
DTSTAMP:20260421T172250
CREATED:20260226T223801Z
LAST-MODIFIED:20260306T174519Z
UID:13991-1775347200-1775433599@arrowheadgolfclub.org
SUMMARY:4/5: Easter Brunch
DESCRIPTION:Easter BrunchApril 5 | Seatings at 10A\, 12:30P & 3P | Arrowhead BallroomAdults $60.95* | Kids 6-12 $25* | 5 and under free \n*Tax and gratuity not included. \nBREAKFAST STATION\nbacon | sausage | breakfast potatoes | blueberry blintz | biscuits and gravy | brioche french toast with maple syrup | vegetable frittata | scrambled eggs | fresh fruit salad with garden mint | yogurt parfaits \nSALAD STATION\ngrilled asparagus with lemon | honey butter glazed carrots with dill | caprese with heirloom tomato and bocconcini mozzarella | rotini pasta salad | caesar salad | tabbouleh salad \nSAVORY STATION\nherb-roasted chicken\, bone-in | baked ham with spiced cherry glaze | honey glazed salmon | leg of lamb with mint jelly demi | creamy smashed red potatoes | green beans with lemon butter | deviled eggs: classic\, roasted red pepper\, moussaka \nSEAFOOD STATION\nsmoked salmon\, red onions\, capers\, mini bagels and cream cheese | shrimp cocktail\, lemons\, cocktail sauce \nKIDS STATION\nchicken fingers | mini bagel dogs | tater tots | mac and cheese \nDESSERT STATION\ncoffee cakes & breads | assorted pies & cakes | mini pastries \nReservations will be available online starting March 2. Please check back. \nFor parties of 12 or more\, call 630.653.5802  \nReservationsFor parties of 12 or more\, call 630.653.5802
URL:https://arrowheadgolfclub.org/events/4-5-easter-brunch/
LOCATION:Arrowhead Golf Club – Ballroom\, 26W151 Butterfield Rd.\, Wheaton\, IL\, 60189
CATEGORIES:Arrowhead Golf Club,Brunch,Featured,Holiday,Registration Required,Special Menu
ATTACH;FMTTYPE=image/jpeg:https://arrowheadgolfclub.org/wp-content/uploads/2026/02/easter-2.jpg
END:VEVENT
BEGIN:VEVENT
DTSTART;VALUE=DATE:20260310
DTEND;VALUE=DATE:20260318
DTSTAMP:20260421T172250
CREATED:20260210T165751Z
LAST-MODIFIED:20260226T191508Z
UID:13977-1773100800-1773791999@arrowheadgolfclub.org
SUMMARY:3/10-3/17: St. Patrick’s Day Menu
DESCRIPTION:St. Patrick’s Day MenuMarch 10-17 | Arrowhead Golf Club RestaurantCORNED BEEF AND CABBAGE PLATE\nslow cooked corned beef | braised cabbage | baby carrots | boiled red potatoes\n18.95 \nCORNED BEEF AND CABBAGE EGG ROLLS\nshredded corned beef | mustard seeds | swiss cheese | honey mustard dipping sauce\n11.95 \nIRISH STEW\nslow braised beef | barley | tender carrots\n7.95 \nBRAISED PORK SHOULDER\ncolcannon potatoes | cider gravy\n18.95 \nTRADITIONAL IRISH BREAKFAST (Only available on the weekend!)\nirish bacon | white pudding sausage | black pudding sausage | fried eggs | baked beans | whole grain bread with bitter orange marmalade\n17.95 \nBAILEY’S IRISH CREAM CHEESECAKE\n9.95 \nReservations
URL:https://arrowheadgolfclub.org/events/3-10-3-17-st-patricks-day-menu/
LOCATION:Arrowhead Golf Club Restaurant\, 26W151 Butterfield Rd\, Wheaton\, IL\, 60189\, United States
CATEGORIES:Arrowhead Golf Club,Featured,Food,Holiday,Special Menu
ATTACH;FMTTYPE=image/jpeg:https://arrowheadgolfclub.org/wp-content/uploads/2025/02/St-Patricks-Day-Menu-Arrowhead.jpg
END:VEVENT
BEGIN:VEVENT
DTSTART;TZID=America/Chicago:20260221T183000
DTEND;TZID=America/Chicago:20260221T220000
DTSTAMP:20260421T172250
CREATED:20251110T200151Z
LAST-MODIFIED:20260210T172309Z
UID:13918-1771698600-1771711200@arrowheadgolfclub.org
SUMMARY:2/21: Felix & Fingers Dueling Pianos
DESCRIPTION:Felix and Fingers Dueling PianosSaturday\, February 21 | 6:30-10P | Arrowhead Golf ClubDueling Pianos and Dinner!In partnership with the ever-popular and dynamic Felix and Fingers\, Dueling Pianos will be a night of pure entertainment! \n\nDoors open at 6P | Dinner at 6:30P | Show from 7-10P\nThe evening includes food stations\nGuests may enjoy a cash bar (non-alcoholic beverages included w/ ticket)\nPlease check back for dinner menu/details\n\nTickets | $79* \nPurchase Tickets\n*Plus processing fee \n\n\nNOTE: Seating is assigned. If you would like to be seated with another guest or group and you are purchasing tickets separately\, please call the Arrowhead Events Department at 630.653.5802.
URL:https://arrowheadgolfclub.org/events/2-21-felix-fingers-dueling-pianos/
LOCATION:Arrowhead Golf Club – Ballroom\, 26W151 Butterfield Rd.\, Wheaton\, IL\, 60189
CATEGORIES:21 & over,Arrowhead Golf Club,Entertainment,Featured,Live Music,Special Menu
ATTACH;FMTTYPE=image/jpeg:https://arrowheadgolfclub.org/wp-content/uploads/2025/11/Dueling-Pianos.jpg
END:VEVENT
BEGIN:VEVENT
DTSTART;VALUE=DATE:20260218
DTEND;VALUE=DATE:20260404
DTSTAMP:20260421T172250
CREATED:20260211T225350Z
LAST-MODIFIED:20260211T230042Z
UID:13979-1771372800-1775260799@arrowheadgolfclub.org
SUMMARY:Select Dates: Lenten Specials
DESCRIPTION:Lenten SpecialsAsh Wednesday\, February 18-Fridays through April 3 | Arrowhead Golf Club RestaurantFISH AND CHIPS | $18.95\nthree pale ale battered cod fillets | fries | coleslaw | tartar sauce | lemon wedge \nMAHI TACOS | $16.95\nthree mahi tacos | napa cabbage | shaved red onion | chipotle crema | flour tortillas | served with chips and salsa \nFRIED SHRIMP BASKET | $19.95\nlightly breaded jumbo shrimp | fries | coleslaw | lemon wedge | tartar sauce or cocktail sauce \nBBQ SALMON | $24.95\nsautéed mushrooms | spinach | bourbon bbq sauce | garlic | crispy onion \nASIAN SHRIMP SALAD | $17.95\nsautéed shrimp | mixed greens | napa cabbage | watercress | carrots | sugar snap peas | red bell peppers | green onion | chinese five spice | cashews | crispy wontons | gingery soy vinaigrette | sesame \nReservations
URL:https://arrowheadgolfclub.org/events/select-dates-lenten-specials/
LOCATION:Arrowhead Golf Club\, 26W151 Butterfield Rd\, Wheaton\, IL\, 60189
CATEGORIES:Arrowhead Golf Club,Featured,Food,Holiday,Restaurant & Bar,Special Menu
ATTACH;FMTTYPE=image/jpeg:https://arrowheadgolfclub.org/wp-content/uploads/2023/02/fish-lenten-specials-lent-1920x600-1.jpg
END:VEVENT
BEGIN:VEVENT
DTSTART;VALUE=DATE:20260212
DTEND;VALUE=DATE:20260215
DTSTAMP:20260421T172250
CREATED:20260123T192908Z
LAST-MODIFIED:20260210T171335Z
UID:13968-1770854400-1771113599@arrowheadgolfclub.org
SUMMARY:2/12-2/14: Valentine's Day Menu
DESCRIPTION:Valentine’s Day MenuFebruary 12-14 | Arrowhead Golf Club Restaurant | $89.95 per personSelect one option from each course.  \nfirst course: choice betweenCRISPY BRIE CHEESE SALAD gf\nmacerated berries | artichoke hearts | shaved radish frisée | sweet drop peppers | warm bacon vinaigrette \nCRAB LEEK BISQUE \nmain course: choice betweenGRILLED FILET MIGNON (8 oz) gf\nboulangère mashed potato | grilled asparagus | smoked lobster bernaise \nWILD MUSHROOM AND BLACK TRUFFLE MALFADINE\nTruffle butter | wild mushroom ragu | parmesan espuma | fresh herbs \nTUSCAN SHRIMP AND SCALLOPS gf\ncreamy polenta | peas | roasted corn | asparagus tips | roasted sweet pepper vinaigrette | parmesan frico \ndessert course: choice betweenFLOURLESS CHOCOLATE CAKE\nchambord whipped cream | fresh berries \nWHITE CHOCOLATE CRÈME BRÛLÉE\nbrown butter shortbread crumble | chantilly cream | sticky toffee sauce \nReservations
URL:https://arrowheadgolfclub.org/events/2-12-2-14-valentines-day-menu/
LOCATION:Arrowhead Golf Club\, 26W151 Butterfield Rd\, Wheaton\, IL\, 60189
CATEGORIES:Arrowhead Golf Club,Featured,Valentine's Day
ATTACH;FMTTYPE=image/jpeg:https://arrowheadgolfclub.org/wp-content/uploads/2026/01/Valentine-Romance-Heart.jpg
END:VEVENT
BEGIN:VEVENT
DTSTART;VALUE=DATE:20260210
DTEND;VALUE=DATE:20260218
DTSTAMP:20260421T172250
CREATED:20260210T170053Z
LAST-MODIFIED:20260210T171211Z
UID:13978-1770681600-1771372799@arrowheadgolfclub.org
SUMMARY:2/10-2/17: Mardi Gras Menu
DESCRIPTION:Mardi Gras MenuFebruary 10-17 | Arrowhead Golf Club RestaurantGUMBO YA-YA\nchicken and andouille sausage\ncup 5.95 | bowl 7.95 \nHUSHPUPPIES\ndeep fried cornmeal | hot pepper peach sauce | pickled saffron honey\n10.95 \nFRIED ALLIGATOR\ncajun remoulade | lime | cajun spice | fresh herbs\n16.95 \nSHRIMP AND GRITS\ngulf shrimp | bacon | fresh tomato | mushrooms | cajun white wine sauce\n21.95 \nRAGIN’ CAJUN SHRIMP PO’BOY\nsautéed shrimp | remoulade | roma tomato | shaved lettuce | cornichons\n18.95 \nBEIGNETS\nmocha chocolate sauce | powdered sugar\n8.95 \nReservations
URL:https://arrowheadgolfclub.org/events/2-10-2-17-mardi-gras-menu/
LOCATION:Arrowhead Golf Club Restaurant\, 26W151 Butterfield Rd\, Wheaton\, IL\, 60189\, United States
CATEGORIES:Arrowhead Golf Club,Featured,Food,Holiday,Special Menu
ATTACH;FMTTYPE=image/jpeg:https://arrowheadgolfclub.org/wp-content/uploads/2024/02/Mardi-Gras-1920x600-1.jpg
END:VEVENT
BEGIN:VEVENT
DTSTART;TZID=America/Chicago:20260201T130000
DTEND;TZID=America/Chicago:20260201T153000
DTSTAMP:20260421T172250
CREATED:20251110T202520Z
LAST-MODIFIED:20251110T202520Z
UID:13920-1769950800-1769959800@arrowheadgolfclub.org
SUMMARY:2/1: Villa Amore Bridal Showcase
DESCRIPTION:Villa Amore Bridal ShowcaseSunday\, February 1 | 1-3:30P | Arrowhead Golf Club BallroomYou are cordially invited to experience Arrowhead Golf Club’s 2026 Bridal ShowcaseEnjoy a glass of Aperol Spritz and experience the elegance of Arrowhead Golf Club\, all while viewing stunning décor options and mingling with a variety of recommended wedding professionals. \n\nMenu Glancing\nHors d’oeuvres Sampling\nWedding Planning\nRaffle Drawing | 3P\n\nTickets | $15 in advance*; $20 at the door \nPurchase Tickets\n*Plus processing fee \n\n\nFor questions\, please call the Arrowhead Events Department at 630.653.5802.
URL:https://arrowheadgolfclub.org/events/2-1-villa-amore-bridal-showcase/
LOCATION:Arrowhead Golf Club – Ballroom\, 26W151 Butterfield Rd.\, Wheaton\, IL\, 60189
CATEGORIES:21 & over,Arrowhead Golf Club,Expo,Featured,Hors d'oeuvres,Wedding
ATTACH;FMTTYPE=image/jpeg:https://arrowheadgolfclub.org/wp-content/uploads/2025/11/Villa-Amore.jpg
END:VEVENT
END:VCALENDAR